BEGIN:VCALENDAR
VERSION:2.0
PRODID:-//Squarespace Inc/Squarespace 6//v6//EN
BEGIN:VEVENT
UID:5b63bf706d2a735a2a03b9fc@squarespace.com
DTSTAMP:20180810T033028Z
DTSTART:20180803T030000Z
DTEND:20180924T135900Z
SUMMARY:LIT (Leaders in Training) Spring
END:VEVENT
END:VCALENDAR
